BEGIN:VCALENDAR
VERSION:2.0
PRODID:-//ChamberMaster//Event Calendar 2.0//EN
METHOD:PUBLISH
X-PUBLISHED-TTL:P3D
REFRESH-INTERVAL:P3D
CALSCALE:GREGORIAN
BEGIN:VEVENT
DTSTART:20160922T210000Z
DTEND:20160922T220000Z
X-MICROSOFT-CDO-ALLDAYEVENT:FALSE
SUMMARY:Welcoming Week Proclamation
DESCRIPTION:The City of Gainesville will for the first time celebrate Welcoming Week - a series of events organized by all Welcoming Cities and Counties around the country. \n\nTo highlight this monumental event\, Mayor Poe will officially proclaim September 16 - 25 Welcoming Week in Gainesville\, FL. The proclamation will be followed by remarks from County Commissioner Robert Hutchinson and Mr. Daniel Valdez from Welcoming America and a number of local organizations will be tabling at the event as well.
X-ALT-DESC;FMTTYPE=text/html:The City of Gainesville will for the first time celebrate Welcoming Week - a series of events organized by all Welcoming Cities and Counties around the country.&nbsp\;<br />\nTo highlight this monumental event\, Mayor Poe will officially proclaim September 16 - 25 Welcoming Week in Gainesville\, FL. The proclamation will be followed by remarks from County Commissioner Robert Hutchinson and Mr. Daniel Valdez from Welcoming America and a number of local organizations will be tabling at the event as well.&nbsp\;<br />\n&nbsp\;
LOCATION:City Hall steps
UID:e.1555.3226
SEQUENCE:3
DTSTAMP:20260422T182130Z
URL:http://gainesvillechamber.chambermaster.com/events/details/welcoming-week-proclamation-3226
END:VEVENT

END:VCALENDAR
