BEGIN:VCALENDAR
VERSION:2.0
PRODID:-//ChamberMaster//Event Calendar 2.0//EN
METHOD:PUBLISH
X-PUBLISHED-TTL:P3D
REFRESH-INTERVAL:P3D
CALSCALE:GREGORIAN
BEGIN:VEVENT
DTSTART:20160901T213000Z
DTEND:20160902T003000Z
X-MICROSOFT-CDO-ALLDAYEVENT:FALSE
SUMMARY:Thrift Night!
DESCRIPTION:One Night. Three Great Stores.\n\n\n\nOn Thursday\, September 1st\, shop three non-profit thrift stores: Family Treasures Thrift Shop\, Junior League of Gainesville Thrift Shop and Alachua County Humane Society Thrift Store. Receive special discounts\, food and drinks\, all while supporting local non-profit organizations. Tickets are $5/person and are available in advance and at the door at all three shopping locations. Shop\, sip and snack from 5:30-8:30 p.m.
X-ALT-DESC;FMTTYPE=text/html:One Night. Three Great Stores.<br />\n<br />\nOn Thursday\, September 1st\, shop three non-profit thrift stores: Family Treasures Thrift Shop\, Junior League of Gainesville Thrift Shop and Alachua County Humane Society Thrift Store. Receive special discounts\, food and drinks\, all while supporting local non-profit organizations. Tickets are $5/person and are available in advance and at the door at all three shopping locations. Shop\, sip and snack from 5:30-8:30 p.m.
LOCATION:Family Treasures Thrift Shop: 710 N. Main Street Junior League of Gainesville Thrift Shop: 430 N. Main Street Alachua County Humane Thrift Shop: 4205 NW 6th Street
UID:e.1555.3182
SEQUENCE:3
DTSTAMP:20260422T170023Z
URL:http://gainesvillechamber.chambermaster.com/events/details/thrift-night-09-01-2016-3182
END:VEVENT

END:VCALENDAR
