BEGIN:VCALENDAR
VERSION:2.0
PRODID:-//ChamberMaster//Event Calendar 2.0//EN
METHOD:PUBLISH
X-PUBLISHED-TTL:P3D
REFRESH-INTERVAL:P3D
CALSCALE:GREGORIAN
BEGIN:VEVENT
DTSTART:20160407T220000Z
DTEND:20160408T000000Z
X-MICROSOFT-CDO-ALLDAYEVENT:FALSE
SUMMARY:Retirement Seminar
DESCRIPTION:I'd like to invite you to a complimentary seminar and dinner on how to safely\, grow\, and protect your retirement resources!  This event can help answer questions and provide you the information you need to help you plan a great retirement. \n\n \n\nWe are holding the seminar a Napolatano's Restaurant located at 606 NW 75th Street Gainesville\, FL 32607 on Thursday\, April 7th at 6 pm. \n\n \n\nI would like to set aside a seat for you\, and don't want you to miss this opportunity. Please RSVP by replying back to me by April 4th  at lmcknight1@allstate.com.  Again seating is limited.\n\n \n\nThanks in advance\,\n\n \n\n \n\nLatalyia McKnight\n\nAllstate Insurance\, McKnight and Company\, Inc.
X-ALT-DESC;FMTTYPE=text/html:<span style="font-family:calibri light\,sans-serif"><span style="color:black"><span style="font-size:medium">I&rsquo\;d like to invite you to a complimentary seminar and dinner on how to safely\, grow\, and protect your retirement resources!&nbsp\; This event can help answer questions and provide you the information you need to help you plan a great retirement. </span></span></span><br />\n&nbsp\;<br />\n<span style="font-family:calibri light\,sans-serif"><span style="color:black"><span style="font-size:medium">We are holding the seminar a Napolatano&#39\;s Restaurant located at 606 NW 75</span><sup><span style="font-size:small">th</span></sup><span style="font-size:medium"> Street Gainesville\, FL 32607 on Thursday\, April 7</span><sup><span style="font-size:small">th</span></sup><span style="font-size:medium"> at 6 pm. </span></span></span><br />\n&nbsp\;<br />\n<span style="font-family:calibri light\,sans-serif"><span style="color:black"><span style="font-size:medium">I would like to set aside a seat for you\, and don&rsquo\;t want you to miss this opportunity. Please RSVP by replying back to me by April 4</span><sup><span style="font-size:small">th&nbsp\; </span></sup><span style="font-size:medium">at <strong><u>lmcknight1@allstate.com</u></strong>. &nbsp\;Again seating is limited.</span></span></span><br />\n&nbsp\;<br />\n<span style="font-family:calibri light\,sans-serif"><span style="color:black"><span style="font-size:medium">Thanks in advance\,</span></span></span><br />\n&nbsp\;<br />\n&nbsp\;<br />\n<span style="font-family:calibri light\,sans-serif"><span style="color:black"><span style="font-size:medium">Latalyia McKnight</span></span></span><br />\n<span style="font-family:calibri light\,sans-serif"><span style="font-size:medium">Allstate Insurance\, McKnight and Company\, Inc. </span></span><br />\n&nbsp\;
LOCATION:Napolatano's Restaurant 606 NW 75th Street Gainesville\, FL 32607
UID:e.1555.2439
SEQUENCE:3
DTSTAMP:20260424T174435Z
URL:http://gainesvillechamber.chambermaster.com/events/details/retirement-seminar-04-07-2016-2439
END:VEVENT

END:VCALENDAR
