BEGIN:VCALENDAR
VERSION:2.0
PRODID:-//ChamberMaster//Event Calendar 2.0//EN
METHOD:PUBLISH
X-PUBLISHED-TTL:P3D
REFRESH-INTERVAL:P3D
CALSCALE:GREGORIAN
BEGIN:VEVENT
DTSTART:20160714T220000Z
DTEND:20160715T000000Z
X-MICROSOFT-CDO-ALLDAYEVENT:FALSE
SUMMARY:Red\, White & More Red!
DESCRIPTION:The Gainesville Woman's Club is hosting the sixth annual "Red\, White & More Red!" wine tasting benefit with proceeds going to the Peaceful Paths and other club projects. There will be hors d'oeuvres\, desserts\, door prizes and live piano music.\n\n\n\nDate: July 14\, 2016\n\nTime: 6:00 pm to 8:00 pm                          \n\n\n\nWhere: Gainesville Woman's Club\n\n           2809 West University Avenue\n\n\n\nCost: $25.00\n\n\n\nFor reservations call: (352) 376-3901 by Monday July 11th.\n\nEmail: gwcwomansclub@att.net\n\n        Website: gfwcfl-gainesvillewomansclub.org
X-ALT-DESC;FMTTYPE=text/html:<span style="font-size:14pt"><span style="font-family:tahoma\,sans-serif"><span style="color:rgb(42\, 42\, 42)">The Gainesville Woman&#39\;s Club is hosting the sixth annual &quot\;Red\, White &amp\; More Red!&quot\; wine tasting benefit with proceeds going to the Peaceful Paths and other club projects. There will be hors d&rsquo\;oeuvres\, desserts\, door prizes and live piano music.<br />\n<br />\nDate: July 14\, 2016</span></span></span><br />\n<span style="font-size:14pt"><span style="font-family:tahoma\,sans-serif"><span style="color:rgb(42\, 42\, 42)">Time: 6:00 pm to 8:00 pm&nbsp\;&nbsp\;&nbsp\;&nbsp\;&nbsp\;&nbsp\;&nbsp\;&nbsp\;&nbsp\;&nbsp\;&nbsp\;&nbsp\;&nbsp\;&nbsp\;&nbsp\;&nbsp\;&nbsp\;&nbsp\;&nbsp\;&nbsp\;&nbsp\;&nbsp\;&nbsp\;&nbsp\;&nbsp\;&nbsp\;<br />\n<br />\nWhere: Gainesville Woman&#39\;s Club<br />\n&nbsp\;&nbsp\;&nbsp\;&nbsp\;&nbsp\;&nbsp\;&nbsp\;&nbsp\;&nbsp\;&nbsp\; 2809 West University Avenue<br />\n<br />\nCost: $25.00<br />\n<br />\nFor reservations call: (352) 376-3901 by Monday July 11<sup>th</sup>.</span></span></span><br />\n<span style="font-size:14pt"><span style="font-family:tahoma\,sans-serif"><span style="color:rgb(42\, 42\, 42)">Email: </span></span></span><a href="mailto:gwcwomansclub@att.net"><span style="font-size:14pt"><span style="font-family:tahoma\,sans-serif"><span style="color:rgb(0\, 0\, 255)">gwcwomansclub@att.net</span></span></span></a><br />\n<span style="font-size:14pt"><span style="font-family:tahoma\,sans-serif">&nbsp\; &nbsp\;&nbsp\;&nbsp\;&nbsp\;&nbsp\; Website: gfwcfl-gainesvillewomansclub.org</span></span><br />\n&nbsp\;
LOCATION:Gainesville Woman's Club 2809 West University Avenue
UID:e.1555.2854
SEQUENCE:3
DTSTAMP:20260423T074339Z
URL:http://gainesvillechamber.chambermaster.com/events/details/red-white-more-red-07-14-2016-2854
END:VEVENT

END:VCALENDAR
