BEGIN:VCALENDAR
VERSION:2.0
PRODID:-//ChamberMaster//Event Calendar 2.0//EN
METHOD:PUBLISH
X-PUBLISHED-TTL:P3D
REFRESH-INTERVAL:P3D
CALSCALE:GREGORIAN
BEGIN:VEVENT
DTSTART:20160322T213000Z
DTEND:20160322T233000Z
X-MICROSOFT-CDO-ALLDAYEVENT:FALSE
SUMMARY:Leadership\, Execution & Strategy Panel
DESCRIPTION:Join Innovation Gainesville 2.0 in bringing together some of the best business minds in our area to talk leadership\, execution and strategy. \n\n \n\nThe panel will feature special guest Kendall Langston\, a leadership expert and executive coach from New Zealand\, Dr. Jackson Sasser\, President of Santa Fe College and the Co-founders and Co-CEOs of Infinite Energy\, Darin Cook and Rich Blaser. Don't miss out on this unique opportunity to hear first-hand the effective management strategies used in today's competitive business climate. \n\n \n\nFind out more about the panelists at http://johnspence.com/panel/.\n\n\nModerated by David Whitney\, iG 2.0 Co-Chair\, UF College of Engineering
X-ALT-DESC;FMTTYPE=text/html:<div style="color: rgb(68\, 68\, 68)\; font-family: Calibri\, Helvetica\, Arial\, sans-serif\; font-size: 12pt\;"><strong>Join Innovation Gainesville 2.0&nbsp\;in bringing together some of the best business minds in our area to talk leadership\, execution and strategy.&nbsp\;</strong></div>\n\n<div style="color: rgb(68\, 68\, 68)\; font-family: Calibri\, Helvetica\, Arial\, sans-serif\; font-size: 8pt\;">&nbsp\;</div>\n\n<div style="color: rgb(68\, 68\, 68)\; font-family: Calibri\, Helvetica\, Arial\, sans-serif\; font-size: 12pt\;"><span style="font-size: 12px\;"><span style="font-family: arial\;">The panel will feature special guest Kendall Langston\, a leadership expert and executive coach from New Zealand\,&nbsp\;Dr. Jackson Sasser\, President of Santa Fe College and&nbsp\;the&nbsp\;Co-founders and Co-CEOs of Infinite Energy\, Darin Cook and Rich Blaser.&nbsp\;Don&rsquo\;t miss out on this unique opportunity to hear first-hand the effective management strategies used in today&rsquo\;s competitive business climate.&nbsp\;</span></span></div>\n\n<div style="color: rgb(68\, 68\, 68)\; font-family: Calibri\, Helvetica\, Arial\, sans-serif\; font-size: 8pt\;">&nbsp\;</div>\n\n<div style="color: rgb(0\, 0\, 0)\; font-family: Calibri\, Helvetica\, Arial\, sans-serif\; font-size: 12pt\;"><span style="font-size: 12px\;"><span style="font-family: arial\;"><span style="color: rgb(112\, 111\, 111)\;"><span style="color: rgb(68\, 68\, 68)\;">Find out more about the panelists at</span>&nbsp\;<a href="http://johnspence.com/panel/" id="LPlnk440100" shape="rect" style="color: rgb(0\, 0\, 242) !important\;" target="_blank">http://johnspence.com/panel</a>/.</span></span></span></div>\n<br />\n<span style="font-size: 12px\;"><span style="font-family: arial\;">Moderated by David Whitney\, iG 2.0 Co-Chair\, UF College of Engineering</span></span>
LOCATION:Infinite Energy Training Auditorium 7001 SW 24th Avenue Gainesville\, FL
UID:e.1555.2409
SEQUENCE:3
DTSTAMP:20260426T013122Z
URL:http://gainesvillechamber.chambermaster.com/events/details/leadership-execution-strategy-panel-03-22-2016-2409
END:VEVENT

END:VCALENDAR
