BEGIN:VCALENDAR
VERSION:2.0
PRODID:-//ChamberMaster//Event Calendar 2.0//EN
METHOD:PUBLISH
X-PUBLISHED-TTL:P3D
REFRESH-INTERVAL:P3D
CALSCALE:GREGORIAN
BEGIN:VEVENT
DTSTART:20160831T160000Z
DTEND:20160831T173000Z
X-MICROSOFT-CDO-ALLDAYEVENT:FALSE
SUMMARY:Japanese Consulate Visit
DESCRIPTION:
X-ALT-DESC;FMTTYPE=text/html:
LOCATION:
UID:e.1555.3196
SEQUENCE:3
DTSTAMP:20260424T232117Z
URL:http://gainesvillechamber.chambermaster.com/events/details/japanese-consulate-visit-3196
END:VEVENT

END:VCALENDAR
