BEGIN:VCALENDAR
VERSION:2.0
PRODID:-//ChamberMaster//Event Calendar 2.0//EN
METHOD:PUBLISH
X-PUBLISHED-TTL:P3D
REFRESH-INTERVAL:P3D
CALSCALE:GREGORIAN
BEGIN:VEVENT
DTSTART:20160321T170000Z
DTEND:20160321T190000Z
X-MICROSOFT-CDO-ALLDAYEVENT:FALSE
SUMMARY:Groundbreaking - Gainesville Audi
DESCRIPTION:Join the Gainesville Area Chamber of Commerce's newest partner\, Gainesville Audi as they break ground at their new location.
X-ALT-DESC;FMTTYPE=text/html:Join the Gainesville Area Chamber of Commerce&#39\;s newest partner\, Gainesville Audi as they break ground at their new location.
LOCATION:1948 N Main St Gainesville\, FL 32609
UID:e.1555.2387
SEQUENCE:3
DTSTAMP:20260425T154000Z
URL:http://gainesvillechamber.chambermaster.com/events/details/groundbreaking-gainesville-audi-03-21-2016-2387
END:VEVENT

END:VCALENDAR
