BEGIN:VCALENDAR
VERSION:2.0
PRODID:-//ChamberMaster//Event Calendar 2.0//EN
METHOD:PUBLISH
X-PUBLISHED-TTL:P3D
REFRESH-INTERVAL:P3D
CALSCALE:GREGORIAN
BEGIN:VEVENT
DTSTART:20160813T000000Z
DTEND:20160813T020000Z
X-MICROSOFT-CDO-ALLDAYEVENT:FALSE
SUMMARY:Gainesville Tech Startup Showcase
DESCRIPTION:SharpSpring is officially hosting the Gainesville Tech Startup Showcase\, and you're invited! All event proceeds will go to GRACE Marketplace\, a local homeless service campus.
X-ALT-DESC;FMTTYPE=text/html:<span style="background-color:transparent\; color:rgb(0\, 0\, 0)\; font-family:arial\; font-size:14.6667px">SharpSpring is officially hosting the Gainesville Tech Startup Showcase\, and you&rsquo\;re invited! All event proceeds will go to </span><a href="http://gracemarketplace.org/" style="text-decoration:none\;"><u>GRACE Marketplace</u></a><span style="background-color:transparent\; color:rgb(0\, 0\, 0)\; font-family:arial\; font-size:14.6667px">\, a local homeless service campus.</span>
LOCATION:The Atlantic 15 N Main Street Gainesville\, Florida
UID:e.1555.2864
SEQUENCE:3
DTSTAMP:20260424T110506Z
URL:http://gainesvillechamber.chambermaster.com/events/details/gainesville-tech-startup-showcase-08-12-2016-2864
END:VEVENT

END:VCALENDAR
