BEGIN:VCALENDAR
VERSION:2.0
PRODID:-//ChamberMaster//Event Calendar 2.0//EN
METHOD:PUBLISH
X-PUBLISHED-TTL:P3D
REFRESH-INTERVAL:P3D
CALSCALE:GREGORIAN
BEGIN:VEVENT
DTSTART:20160310T220000Z
DTEND:20160311T000000Z
X-MICROSOFT-CDO-ALLDAYEVENT:FALSE
SUMMARY:Gainesville Tech Council Kickoff
DESCRIPTION:Join the Gainesville tech community at the 2016 Kickoff event of the Gainesville Tech Council. Hear about what's in store for 2016\, meet the Tech Council Board of directors\, and mix and mingle with other techies. Not sure what the Tech Council is all about - this is perfect for you!
X-ALT-DESC;FMTTYPE=text/html:Join the Gainesville tech community at the 2016 Kickoff event of the Gainesville Tech Council. Hear about what&#39\;s in store for 2016\, meet the Tech Council Board of directors\, and mix and mingle with other techies.&nbsp\;Not sure what the Tech Council is all about - this is perfect for you!&nbsp\;
LOCATION:The Bank Bar & Lounge 22 W. University Avenue Gainesville\, Florida
UID:e.1555.2331
SEQUENCE:3
DTSTAMP:20260425T175408Z
URL:http://gainesvillechamber.chambermaster.com/events/details/gainesville-tech-council-kickoff-03-10-2016-2331
END:VEVENT

END:VCALENDAR
