BEGIN:VCALENDAR
VERSION:2.0
PRODID:-//ChamberMaster//Event Calendar 2.0//EN
METHOD:PUBLISH
X-PUBLISHED-TTL:P3D
REFRESH-INTERVAL:P3D
CALSCALE:GREGORIAN
BEGIN:VEVENT
DTSTART:20160729T123000Z
DTEND:20160729T133000Z
X-MICROSOFT-CDO-ALLDAYEVENT:FALSE
SUMMARY:Eggs and Information at Webster University
DESCRIPTION:Join us for this information session/open house for our evening graduate programs. Master's Degrees offered at our Ocala Campus include:\n\n\n	MBA (Master's of Business Administration)\n	Management & Leadership (Master of Arts)\n	Human Resource Management (Master of Arts)\n	Human Services (Master of Arts)\n	Counseling (Master of Arts)\n	\n		Emphasis in Clinical Mental Health\n		Emphasis in Marriage\, Family\, & Child Therapy\n	\n	\n\nAll programs can be completed in as little as one night per week!!\n\n\n\nThis is a great opportunity to meet with our advisors and representatives\, ask questions\, and tour our facility.\n\n\n\nThose who apply during this event will have their application fee waived!\n\n\n\nBreakfast and refreshments will be served. Please RSVP to Ocala@Webster.edu.
X-ALT-DESC;FMTTYPE=text/html:<span style="font-family:times new roman\,serif"><span style="font-size:12.0pt">Join us for this information session/open house for our evening graduate programs. Master&#39\;s Degrees offered at our Ocala Campus include:</span></span>\n\n<ul>\n	<li><span style="font-family:times new roman\,serif"><span style="font-size:12.0pt">MBA (Master&#39\;s of Business Administration)</span></span></li>\n	<li><span style="font-family:times new roman\,serif"><span style="font-size:12.0pt">Management &amp\; Leadership (Master of Arts)</span></span></li>\n	<li><span style="font-family:times new roman\,serif"><span style="font-size:12.0pt">Human Resource Management (Master of Arts)</span></span></li>\n	<li><span style="font-family:times new roman\,serif"><span style="font-size:12.0pt">Human Services (Master of Arts)</span></span></li>\n	<li><span style="font-family:times new roman\,serif"><span style="font-size:12.0pt">Counseling (Master of Arts)</span></span>\n	<ul>\n		<li><span style="font-family:times new roman\,serif"><span style="font-size:12.0pt">Emphasis in Clinical Mental Health</span></span></li>\n		<li><span style="font-family:times new roman\,serif"><span style="font-size:12.0pt">Emphasis in Marriage\, Family\, &amp\; Child Therapy</span></span></li>\n	</ul>\n	</li>\n</ul>\n<span style="font-family:times new roman\,serif"><span style="font-size:12.0pt">All programs can be completed in as little as one night per week!!<br />\n<br />\nThis is a great opportunity to meet with our advisors and representatives\, ask questions\, and tour our facility.<br />\n<br />\nThose who apply during this event will have their application fee waived!<br />\n<br />\nBreakfast and refreshments will be served. Please RSVP to Ocala@Webster.edu.<br />\n&nbsp\;&nbsp\;&nbsp\;&nbsp\;&nbsp\;&nbsp\;&nbsp\;</span></span><br />\n&nbsp\;
LOCATION:Webster University 4414 SW College Rd.\, Ste. 942 Ocala\, Fl 34470
UID:e.1555.2870
SEQUENCE:3
DTSTAMP:20260425T150025Z
URL:http://gainesvillechamber.chambermaster.com/events/details/eggs-and-information-at-webster-university-07-29-2016-2870
END:VEVENT

END:VCALENDAR
