BEGIN:VCALENDAR
VERSION:2.0
PRODID:-//ChamberMaster//Event Calendar 2.0//EN
METHOD:PUBLISH
X-PUBLISHED-TTL:P3D
REFRESH-INTERVAL:P3D
CALSCALE:GREGORIAN
BEGIN:VEVENT
DTSTART:20160416T140000Z
DTEND:20160416T190000Z
X-MICROSOFT-CDO-ALLDAYEVENT:FALSE
SUMMARY:Earth Day Exploration
DESCRIPTION:Explore the wonders of life on Earth! Participate in Earth Day activities in the adjacent UF Natural Area Teaching Laboratory and see diverse specimens from the Museum's vast collections. Enjoy the Plant Sale beginning Friday\, April 15\, one of the Museum's largest plant sales of the year with more than 150 species available. Learn about butterfly gardening\, conservation and more.\n\nVisit the Earth Day website for more information. Food and merchandise vendors will be available!
X-ALT-DESC;FMTTYPE=text/html:Explore the wonders of life on Earth! Participate in Earth Day activities in the adjacent UF Natural Area Teaching Laboratory and see diverse specimens from the Museum&#39\;s vast collections. Enjoy the <a href="https://www.flmnh.ufl.edu/earthday/plant-sale/" title="Three-Day Plant Sale">Plant Sale</a> beginning Friday\, April 15\, one of the Museum&#39\;s largest plant sales of the year with more than 150 species available. Learn about butterfly gardening\, conservation and more.\n\n<p>Visit the <a href="https://www.flmnh.ufl.edu/earthday/home/" title="Earth Day Exploration">Earth Day website</a> for more information. Food and merchandise vendors will be available!</p>\n
LOCATION:Florida Museum of Natural History\, UF Cultural Plaza\, 3215 Hull Road\, Gainesville\, FL 32611
UID:e.1555.1308
SEQUENCE:3
DTSTAMP:20260425T150025Z
URL:http://gainesvillechamber.chambermaster.com/events/details/earth-day-exploration-04-16-2016-1308
END:VEVENT

END:VCALENDAR
