BEGIN:VCALENDAR
VERSION:2.0
PRODID:-//ChamberMaster//Event Calendar 2.0//EN
METHOD:PUBLISH
X-PUBLISHED-TTL:P3D
REFRESH-INTERVAL:P3D
CALSCALE:GREGORIAN
BEGIN:VEVENT
DTSTART:20160924T130000Z
DTEND:20160924T170000Z
X-MICROSOFT-CDO-ALLDAYEVENT:FALSE
SUMMARY:Discover Massage!
DESCRIPTION:Attendees will have the opportunity to learn effective massage techniques from a seasoned instructor and experience the benefits of massage therapy in a safe practice environment. Participants will also be introduced to basic anatomy and physiology as well as a centering exercise.\n\n \n\nThe cost to attend is $29 and includes snacks. Space is limited. To reserve your spot and to learn more\, contact the Florida School of Massage at (352) 378-7891 or visit:\n\nhttp://floridaschoolofmassage.com/workshop/discover-massage/
X-ALT-DESC;FMTTYPE=text/html:<span style="font-family:calibri"><span style="font-size:14.0pt">Attendees will have the opportunity to learn effective massage techniques from a seasoned instructor and experience the benefits of massage therapy in a safe practice environment. Participants will also be introduced to basic anatomy and physiology as well as a centering exercise.</span></span><br />\n&nbsp\;<br />\n<span style="font-family:calibri"><span style="font-size:14.0pt">The cost to attend is $29 and includes snacks. Space is limited. To reserve your spot and to learn more\, contact the Florida School of Massage at (352) 378-7891 or visit:</span></span><br />\n<span style="font-family:calibri"><span style="font-size:14.0pt"><a href="http://floridaschoolofmassage.com/workshop/discover-massage/">http://floridaschoolofmassage.com/workshop/discover-massage/</a></span></span><br />\n&nbsp\;
LOCATION:Florida School of Massage\, 6421 SW 13th Street\, Gainesville\, Florida 32608.
UID:e.1555.3197
SEQUENCE:3
DTSTAMP:20260423T200448Z
URL:http://gainesvillechamber.chambermaster.com/events/details/discover-massage-3197
END:VEVENT

END:VCALENDAR
