BEGIN:VCALENDAR
VERSION:2.0
PRODID:-//ChamberMaster//Event Calendar 2.0//EN
METHOD:PUBLISH
X-PUBLISHED-TTL:P3D
REFRESH-INTERVAL:P3D
CALSCALE:GREGORIAN
BEGIN:VEVENT
DTSTART:20160613T130000Z
DTEND:20160618T193000Z
X-MICROSOFT-CDO-ALLDAYEVENT:FALSE
SUMMARY:Circus Summer Camp
DESCRIPTION:Kids explore circus arts with trapeze and silks\, costume & prop crafts and circus adventures! Your son or daughter will have a truly unique experience with our quality performing arts instructors\, make new friends\, build confidence\, and have a whole lot of fun!
X-ALT-DESC;FMTTYPE=text/html:Kids explore circus arts with trapeze and silks\, costume &amp\; prop crafts and circus adventures! Your son or daughter will have a truly unique experience with our quality performing arts instructors\, make new friends\, build confidence\, and have a whole lot of fun!<strong><sup>&nbsp\;&nbsp\;&nbsp\;&nbsp\;&nbsp\;&nbsp\;&nbsp\;</sup></strong>
LOCATION:S-Connection Aerial Arts 250 SE 10th Ave Gainesville\, FL 32601
UID:e.1555.2479
SEQUENCE:3
DTSTAMP:20260425T150025Z
URL:http://gainesvillechamber.chambermaster.com/events/details/circus-summer-camp-06-13-2016-2479
END:VEVENT

END:VCALENDAR
