BEGIN:VCALENDAR
VERSION:2.0
PRODID:-//ChamberMaster//Event Calendar 2.0//EN
METHOD:PUBLISH
X-PUBLISHED-TTL:P3D
REFRESH-INTERVAL:P3D
CALSCALE:GREGORIAN
BEGIN:VEVENT
DTSTART:20160405T200000Z
DTEND:20160405T230000Z
X-MICROSOFT-CDO-ALLDAYEVENT:FALSE
SUMMARY:Block Advisors Networking After Hours Event
DESCRIPTION:You're Invited To:\n\nBlock Advisors\n\nNetworking After Hours Event\n\n\n\nTuesday\, April 5th\n\n4:00 pm to 7:00 pm\n\n\n\nCome and meet our Block Advisors' team while networking with other local professionals.\n\n\n\nWe're the new tax service in your neighborhood\, offering you a reliable\, year-round relationship with an experienced\, expert Advisor.\n\n\n\nLite fare will be served and prize giveaways throughout the night!\n\n\n\nOffice Address: 5010 Newberry Rd. Suite A\n\nCity/State: Gainesville\, FL 32608\n\nPhone Number: 352-372-7269\n\n\n\nSee you there!!
X-ALT-DESC;FMTTYPE=text/html:You&#39\;re Invited To:<br />\n<strong>Block Advisors</strong><br />\nNetworking After Hours Event<br />\n<br />\nTuesday\, April 5th<br />\n4:00 pm to 7:00 pm<br />\n<br />\nCome and meet our Block Advisors&#39\; team while networking with other local professionals.<br />\n<br />\nWe&#39\;re the new tax service in your neighborhood\, offering you a reliable\, year-round relationship with an experienced\, expert Advisor.<br />\n<br />\nLite fare will be served and prize giveaways throughout the night!<br />\n<br />\nOffice Address: 5010 Newberry Rd. Suite A<br />\nCity/State: Gainesville\, FL 32608<br />\nPhone Number: 352-372-7269<br />\n<br />\nSee you there!!<br />\n<br />\n&nbsp\;
LOCATION:5010 Newberry Rd. Suite A Gainesville\, FL 32608
UID:e.1555.2441
SEQUENCE:3
DTSTAMP:20260425T150025Z
URL:http://gainesvillechamber.chambermaster.com/events/details/block-advisors-networking-after-hours-event-04-05-2016-2441
END:VEVENT

END:VCALENDAR
