BEGIN:VCALENDAR
VERSION:2.0
PRODID:-//ChamberMaster//Event Calendar 2.0//EN
METHOD:PUBLISH
X-PUBLISHED-TTL:P3D
REFRESH-INTERVAL:P3D
CALSCALE:GREGORIAN
BEGIN:VEVENT
DTSTART:20160714T220000Z
DTEND:20160715T010000Z
X-MICROSOFT-CDO-ALLDAYEVENT:FALSE
SUMMARY:ACEL Happy Hour
DESCRIPTION:Join us for our monthly ACEL Happy Hour!\n\n\n\nOn the second Thursday of each month\, young professionals are invited to network\, mix and mingle at a one of Gainesville's local venues. Meet interesting people\, find out about our ACEL committees\, and learn how to get involved. \n\n\n\nIf you're new to Alachua County or just new to ACEL make sure you talk to one of our ACEL ambassadors or board members who can tell you what we're all about. You will be able to identify them by their nametags.
X-ALT-DESC;FMTTYPE=text/html:<span style="color:rgb(75\, 79\, 86)\; font-family:helvetica\,arial\,sans-serif\; font-size:14px">Join us for our monthly ACEL Happy Hour!</span><br />\n<br />\n<span style="color:rgb(75\, 79\, 86)\; font-family:helvetica\,arial\,sans-serif\; font-size:14px">On the second Thursday of each month\, young professionals are invited to network\, mix and mingle at a one of Gainesville&rsquo\;s local venues. Meet interesting people\, find out about our ACEL committees\, and learn how to get involved.&nbsp\;</span><br />\n<br />\n<span style="color:rgb(75\, 79\, 86)\; font-family:helvetica\,arial\,sans-serif\; font-size:14px">If you&rsquo\;re new to Alachua County or just new to ACEL make sure you talk to one of our ACEL ambassadors or board members who can tell you what we&rsquo\;re all about. You will be able to identify them by their nametags.</span>
LOCATION:Various locations\, see more at: https://www.facebook.com/acelfl/
UID:e.1555.2727
SEQUENCE:3
DTSTAMP:20260424T202124Z
URL:http://gainesvillechamber.chambermaster.com/events/details/acel-happy-hour-07-14-2016-2727
END:VEVENT

END:VCALENDAR
